Package: gDRstyle Version: 1.7.1 Command: /Library/Frameworks/R.framework/Resources/bin/R CMD build --keep-empty-dirs --no-resave-data gDRstyle StartedAt: 2025-05-07 16:52:00 -0400 (Wed, 07 May 2025) EndedAt: 2025-05-07 16:52:10 -0400 (Wed, 07 May 2025) EllapsedTime: 10.2 seconds RetCode: 0 Status: OK PackageFile: gDRstyle_1.7.1.tar.gz PackageFileSize: 597.9 KiB