Package: gDRstyle Version: 1.7.1 Command: rm -rf gDRstyle.buildbin-libdir && mkdir gDRstyle.buildbin-libdir && /Users/biocbuild/BBS/utils/build-universal.sh gDRstyle_1.7.1.tar.gz /Library/Frameworks/R.framework/Resources/bin/R gDRstyle.buildbin-libdir StartedAt: 2025-05-08 00:44:13 -0400 (Thu, 08 May 2025) EndedAt: 2025-05-08 00:44:21 -0400 (Thu, 08 May 2025) EllapsedTime: 8.0 seconds RetCode: 0 Status: OK PackageFile: gDRstyle_1.7.1.tgz PackageFileSize: 657.6 KiB