Package: gDRstyle Version: 1.7.1 Command: /Library/Frameworks/R.framework/Resources/bin/R CMD INSTALL gDRstyle StartedAt: 2025-05-08 15:07:29 -0400 (Thu, 08 May 2025) EndedAt: 2025-05-08 15:07:32 -0400 (Thu, 08 May 2025) EllapsedTime: 2.7 seconds RetCode: 0 Status: OK