Package: gDRstyle Version: 1.7.1 Command: rm -rf gDRstyle.buildbin-libdir && mkdir gDRstyle.buildbin-libdir && /Users/biocbuild/BBS/utils/build-universal.sh gDRstyle_1.7.1.tar.gz /Library/Frameworks/R.framework/Resources/bin/R gDRstyle.buildbin-libdir StartedAt: 2025-05-09 22:41:28 -0400 (Fri, 09 May 2025) EndedAt: 2025-05-09 22:41:30 -0400 (Fri, 09 May 2025) EllapsedTime: 2.0 seconds RetCode: 0 Status: OK PackageFile: gDRstyle_1.7.1.tgz PackageFileSize: 658.2 KiB