Package: gDRcore Version: 1.7.7 Command: rm -rf gDRcore.buildbin-libdir && mkdir gDRcore.buildbin-libdir && F:\biocbuild\bbs-3.22-bioc\R\bin\R.exe CMD INSTALL --build --library=gDRcore.buildbin-libdir gDRcore_1.7.7.tar.gz StartedAt: 2025-08-15 10:19:03 -0400 (Fri, 15 Aug 2025) EndedAt: 2025-08-15 10:19:49 -0400 (Fri, 15 Aug 2025) EllapsedTime: 46.6 seconds RetCode: 0 Status: OK PackageFile: gDRcore_1.7.7.zip PackageFileSize: 1.356 MiB