Package: gDRcore Version: 1.7.8 Command: /Library/Frameworks/R.framework/Resources/bin/R CMD INSTALL gDRcore StartedAt: 2025-10-09 15:20:21 -0400 (Thu, 09 Oct 2025) EndedAt: 2025-10-09 15:20:27 -0400 (Thu, 09 Oct 2025) EllapsedTime: 5.7 seconds RetCode: 0 Status: OK