Package: gDRcore Version: 1.7.8 Command: /Library/Frameworks/R.framework/Resources/bin/R CMD build --keep-empty-dirs --no-resave-data gDRcore StartedAt: 2025-10-08 16:33:45 -0400 (Wed, 08 Oct 2025) EndedAt: 2025-10-08 16:34:02 -0400 (Wed, 08 Oct 2025) EllapsedTime: 17.2 seconds RetCode: 0 Status: OK PackageFile: gDRcore_1.7.8.tar.gz PackageFileSize: 1.042 MiB