Package: gDRcore Version: 1.9.1 Maintainer: Arkadiusz Gladki MaintainerEmail: gladki.arkadiusz at gmail.com git_url: https://git.bioconductor.org/packages/gDRcore git_branch: devel git_last_commit: 6b41ab3 git_last_commit_date: 2025-10-30 05:31:59 -0400 (Thu, 30 Oct 2025)