Package: gDR Version: 1.7.2 Command: chmod a+r gDR -R && F:\biocbuild\bbs-3.22-bioc\R\bin\R.exe CMD build --keep-empty-dirs --no-resave-data gDR StartedAt: 2025-08-14 20:21:12 -0400 (Thu, 14 Aug 2025) EndedAt: 2025-08-14 20:22:21 -0400 (Thu, 14 Aug 2025) EllapsedTime: 68.2 seconds RetCode: 0 Status: OK PackageFile: gDR_1.7.2.tar.gz PackageFileSize: 276.2 KiB