Package: gDR Version: 1.7.2 Command: rm -rf gDR.buildbin-libdir && mkdir gDR.buildbin-libdir && F:\biocbuild\bbs-3.22-bioc\R\bin\R.exe CMD INSTALL --build --library=gDR.buildbin-libdir gDR_1.7.2.tar.gz StartedAt: 2025-08-15 10:19:01 -0400 (Fri, 15 Aug 2025) EndedAt: 2025-08-15 10:19:31 -0400 (Fri, 15 Aug 2025) EllapsedTime: 29.7 seconds RetCode: 0 Status: OK PackageFile: gDR_1.7.2.zip PackageFileSize: 283.6 KiB