Package: gDR Version: 1.7.2 Command: /home/biocbuild/bbs-3.22-bioc/R/bin/R CMD INSTALL gDR StartedAt: 2025-10-01 15:45:39 -0400 (Wed, 01 Oct 2025) EndedAt: 2025-10-01 15:46:13 -0400 (Wed, 01 Oct 2025) EllapsedTime: 33.3 seconds RetCode: 0 Status: OK