Package: gDR Version: 1.7.1 Command: rm -rf gDR.buildbin-libdir && mkdir gDR.buildbin-libdir && /Users/biocbuild/BBS/utils/build-universal.sh gDR_1.7.1.tar.gz /Library/Frameworks/R.framework/Resources/bin/R gDR.buildbin-libdir StartedAt: 2025-05-27 22:14:43 -0400 (Tue, 27 May 2025) EndedAt: 2025-05-27 22:14:53 -0400 (Tue, 27 May 2025) EllapsedTime: 10.2 seconds RetCode: 0 Status: OK PackageFile: gDR_1.7.1.tgz PackageFileSize: 279.2 KiB