Package: gCrisprTools Version: 2.13.0 Command: chmod a+r gCrisprTools -R && E:\biocbuild\bbs-3.21-bioc\R\bin\R.exe CMD build --keep-empty-dirs --no-resave-data gCrisprTools StartedAt: 2025-02-03 19:01:05 -0500 (Mon, 03 Feb 2025) EndedAt: 2025-02-03 19:05:49 -0500 (Mon, 03 Feb 2025) EllapsedTime: 283.9 seconds RetCode: 0 Status: OK PackageFile: gCrisprTools_2.13.0.tar.gz PackageFileSize: 3.061 MiB