Package: funtooNorm Version: 1.33.0 Command: /home/biocbuild/bbs-3.22-bioc/R/bin/R CMD INSTALL funtooNorm StartedAt: 2025-10-01 15:55:32 -0400 (Wed, 01 Oct 2025) EndedAt: 2025-10-01 15:56:38 -0400 (Wed, 01 Oct 2025) EllapsedTime: 66.2 seconds RetCode: 0 Status: OK