Package: funtooNorm Version: 1.31.0 Command: /Library/Frameworks/R.framework/Resources/bin/R CMD build --keep-empty-dirs --no-resave-data funtooNorm StartedAt: 2025-01-10 16:44:01 -0500 (Fri, 10 Jan 2025) EndedAt: 2025-01-10 16:44:03 -0500 (Fri, 10 Jan 2025) EllapsedTime: 2.3 seconds RetCode: 0 Status: OK PackageFile: funtooNorm_1.31.0.tar.gz PackageFileSize: 2.458 MiB