Package: funOmics Version: 1.3.0 Command: chmod a+r funOmics -R && F:\biocbuild\bbs-3.22-bioc\R\bin\R.exe CMD build --keep-empty-dirs --no-resave-data funOmics StartedAt: 2025-08-14 20:19:15 -0400 (Thu, 14 Aug 2025) EndedAt: 2025-08-14 20:26:05 -0400 (Thu, 14 Aug 2025) EllapsedTime: 409.5 seconds RetCode: 0 Status: OK PackageFile: funOmics_1.3.0.tar.gz PackageFileSize: 52.4 KiB