Package: frmaTools Version: 1.59.0 Command: E:\biocbuild\bbs-3.21-bioc\R\bin\R.exe CMD INSTALL frmaTools StartedAt: 2025-02-03 15:39:57 -0500 (Mon, 03 Feb 2025) EndedAt: 2025-02-03 15:40:09 -0500 (Mon, 03 Feb 2025) EllapsedTime: 12.3 seconds RetCode: 0 Status: OK