Package: frmaTools Version: 1.59.0 Command: chmod a+r frmaTools -R && E:\biocbuild\bbs-3.21-bioc\R\bin\R.exe CMD build --keep-empty-dirs --no-resave-data frmaTools StartedAt: 2025-02-03 18:58:54 -0500 (Mon, 03 Feb 2025) EndedAt: 2025-02-03 18:59:18 -0500 (Mon, 03 Feb 2025) EllapsedTime: 24.1 seconds RetCode: 0 Status: OK PackageFile: frmaTools_1.59.0.tar.gz PackageFileSize: 75.18 KiB