Package: frmaTools Version: 1.61.0 Command: /home/biocbuild/bbs-3.22-bioc/R/bin/R CMD INSTALL frmaTools StartedAt: 2025-10-09 15:14:58 -0400 (Thu, 09 Oct 2025) EndedAt: 2025-10-09 15:15:03 -0400 (Thu, 09 Oct 2025) EllapsedTime: 4.3 seconds RetCode: 0 Status: OK