Package: frmaTools Version: 1.59.0 Command: /home/biocbuild/bbs-3.21-bioc/R/bin/R CMD INSTALL frmaTools StartedAt: 2025-02-03 15:21:46 -0500 (Mon, 03 Feb 2025) EndedAt: 2025-02-03 15:21:49 -0500 (Mon, 03 Feb 2025) EllapsedTime: 3.8 seconds RetCode: 0 Status: OK