Package: frmaTools Version: 1.59.0 Command: /home/biocbuild/bbs-3.21-bioc/R/bin/R CMD build --keep-empty-dirs --no-resave-data frmaTools StartedAt: 2025-02-03 17:26:37 -0500 (Mon, 03 Feb 2025) EndedAt: 2025-02-03 17:26:52 -0500 (Mon, 03 Feb 2025) EllapsedTime: 15.0 seconds RetCode: 0 Status: OK PackageFile: frmaTools_1.59.0.tar.gz PackageFileSize: 157.9 KiB