Package: frmaTools Version: 1.59.0 Command: /Library/Frameworks/R.framework/Resources/bin/R CMD build --keep-empty-dirs --no-resave-data frmaTools StartedAt: 2025-02-03 16:49:11 -0500 (Mon, 03 Feb 2025) EndedAt: 2025-02-03 16:49:30 -0500 (Mon, 03 Feb 2025) EllapsedTime: 19.5 seconds RetCode: 0 Status: OK PackageFile: frmaTools_1.59.0.tar.gz PackageFileSize: 157.4 KiB