Package: frmaTools Version: 1.59.0 Command: /home/biocbuild/R/R/bin/R CMD check --install=check:frmaTools.install-out.txt --library=/home/biocbuild/R/R/site-library --no-vignettes --timings frmaTools_1.59.0.tar.gz StartedAt: 2025-01-28 10:43:08 -0000 (Tue, 28 Jan 2025) EndedAt: 2025-01-28 10:43:12 -0000 (Tue, 28 Jan 2025) EllapsedTime: 4.0 seconds RetCode: 1 Status: ERROR CheckDir: frmaTools.Rcheck Warnings: NA