Package: frma Version: 1.61.0 Command: F:\biocbuild\bbs-3.22-bioc\R\bin\R.exe CMD INSTALL frma StartedAt: 2025-08-14 16:14:56 -0400 (Thu, 14 Aug 2025) EndedAt: 2025-08-14 16:15:40 -0400 (Thu, 14 Aug 2025) EllapsedTime: 43.7 seconds RetCode: 0 Status: OK