Package: frenchFISH Version: 1.21.0 Command: /home/biocbuild/R/R/bin/R CMD INSTALL frenchFISH StartedAt: 2025-09-29 20:39:58 -0000 (Mon, 29 Sep 2025) EndedAt: 2025-09-29 20:40:11 -0000 (Mon, 29 Sep 2025) EllapsedTime: 12.5 seconds RetCode: 0 Status: OK