Package: frenchFISH Version: 1.21.0 Command: /home/biocbuild/R/R/bin/R CMD build --keep-empty-dirs --no-resave-data frenchFISH StartedAt: 2025-10-20 23:51:08 -0000 (Mon, 20 Oct 2025) EndedAt: 2025-10-20 23:51:15 -0000 (Mon, 20 Oct 2025) EllapsedTime: 7.0 seconds RetCode: 0 Status: OK PackageFile: frenchFISH_1.21.0.tar.gz PackageFileSize: 21.61 KiB