Package: frenchFISH Version: 1.19.0 Command: rm -rf frenchFISH.buildbin-libdir && mkdir frenchFISH.buildbin-libdir && /Users/biocbuild/BBS/utils/build-universal.sh frenchFISH_1.19.0.tar.gz /Library/Frameworks/R.framework/Resources/bin/R frenchFISH.buildbin-libdir StartedAt: 2025-02-04 00:34:51 -0500 (Tue, 04 Feb 2025) EndedAt: 2025-02-04 00:34:57 -0500 (Tue, 04 Feb 2025) EllapsedTime: 6.0 seconds RetCode: 0 Status: OK PackageFile: frenchFISH_1.19.0.tgz PackageFileSize: 52.13 KiB