Package: frenchFISH Version: 1.19.0 Command: /Library/Frameworks/R.framework/Resources/bin/R CMD build --keep-empty-dirs --no-resave-data frenchFISH StartedAt: 2025-02-03 16:58:25 -0500 (Mon, 03 Feb 2025) EndedAt: 2025-02-03 16:58:28 -0500 (Mon, 03 Feb 2025) EllapsedTime: 3.0 seconds RetCode: 0 Status: OK PackageFile: frenchFISH_1.19.0.tar.gz PackageFileSize: 20.91 KiB