Package: fmrs Version: 1.19.0 Command: chmod a+r fmrs -R && F:\biocbuild\bbs-3.22-bioc\R\bin\R.exe CMD build --keep-empty-dirs --no-resave-data fmrs StartedAt: 2025-08-14 20:18:37 -0400 (Thu, 14 Aug 2025) EndedAt: 2025-08-14 20:19:01 -0400 (Thu, 14 Aug 2025) EllapsedTime: 23.9 seconds RetCode: 0 Status: OK PackageFile: fmrs_1.19.0.tar.gz PackageFileSize: 47.09 KiB