Package: fmrs Version: 1.17.0 Command: E:\biocbuild\bbs-3.21-bioc\R\bin\R.exe CMD INSTALL fmrs StartedAt: 2025-02-05 16:30:32 -0500 (Wed, 05 Feb 2025) EndedAt: 2025-02-05 16:31:03 -0500 (Wed, 05 Feb 2025) EllapsedTime: 31.5 seconds RetCode: 0 Status: OK