Package: fmrs Version: 1.17.0 Command: E:\biocbuild\bbs-3.21-bioc\R\bin\R.exe CMD check --no-multiarch --install=check:fmrs.install-out.txt --library=E:\biocbuild\bbs-3.21-bioc\R\library --no-vignettes --timings fmrs_1.17.0.tar.gz StartedAt: 2025-02-03 01:06:14 -0500 (Mon, 03 Feb 2025) EndedAt: 2025-02-03 01:07:20 -0500 (Mon, 03 Feb 2025) EllapsedTime: 65.6 seconds RetCode: 0 Status: OK CheckDir: fmrs.Rcheck Warnings: 0