Package: fmrs Version: 1.17.0 Command: rm -rf fmrs.buildbin-libdir && mkdir fmrs.buildbin-libdir && E:\biocbuild\bbs-3.21-bioc\R\bin\R.exe CMD INSTALL --build --library=fmrs.buildbin-libdir fmrs_1.17.0.tar.gz StartedAt: 2025-02-06 08:03:50 -0500 (Thu, 06 Feb 2025) EndedAt: 2025-02-06 08:04:23 -0500 (Thu, 06 Feb 2025) EllapsedTime: 33.3 seconds RetCode: 0 Status: OK PackageFile: fmrs_1.17.0.zip PackageFileSize: 208.5 KiB