Package: fmrs Version: 1.19.0 Command: /home/biocbuild/bbs-3.22-bioc/R/bin/R CMD INSTALL fmrs StartedAt: 2025-10-10 15:17:40 -0400 (Fri, 10 Oct 2025) EndedAt: 2025-10-10 15:17:56 -0400 (Fri, 10 Oct 2025) EllapsedTime: 15.9 seconds RetCode: 0 Status: OK