Package: fmrs Version: 1.19.0 Command: /home/biocbuild/bbs-3.22-bioc/R/bin/R CMD build --keep-empty-dirs --no-resave-data --md5 fmrs StartedAt: 2025-10-10 17:51:52 -0400 (Fri, 10 Oct 2025) EndedAt: 2025-10-10 17:52:07 -0400 (Fri, 10 Oct 2025) EllapsedTime: 15.0 seconds RetCode: 0 Status: OK PackageFile: fmrs_1.19.0.tar.gz PackageFileSize: 48.32 KiB