Package: fmrs Version: 1.17.0 Command: /Library/Frameworks/R.framework/Resources/bin/R CMD INSTALL fmrs StartedAt: 2025-02-03 15:35:46 -0500 (Mon, 03 Feb 2025) EndedAt: 2025-02-03 15:36:00 -0500 (Mon, 03 Feb 2025) EllapsedTime: 13.9 seconds RetCode: 0 Status: OK