Package: fmrs Version: 1.17.0 Command: /home/biocbuild/R/R/bin/R CMD build --keep-empty-dirs --no-resave-data fmrs StartedAt: 2025-01-28 22:58:13 -0000 (Tue, 28 Jan 2025) EndedAt: 2025-01-28 22:58:35 -0000 (Tue, 28 Jan 2025) EllapsedTime: 22.0 seconds RetCode: 0 Status: OK PackageFile: fmrs_1.17.0.tar.gz PackageFileSize: 47.79 KiB