Package: fmcsR Version: 1.49.0 Command: /Library/Frameworks/R.framework/Resources/bin/R CMD check --install=check:fmcsR.install-out.txt --library=/Library/Frameworks/R.framework/Resources/library --no-vignettes --timings fmcsR_1.49.0.tar.gz StartedAt: 2025-02-03 20:36:14 -0500 (Mon, 03 Feb 2025) EndedAt: 2025-02-03 20:37:33 -0500 (Mon, 03 Feb 2025) EllapsedTime: 78.5 seconds RetCode: 0 Status: OK CheckDir: fmcsR.Rcheck Warnings: 0