Package: fmcsR Version: 1.51.0 Command: /Library/Frameworks/R.framework/Resources/bin/R CMD check --install=check:fmcsR.install-out.txt --library=/Library/Frameworks/R.framework/Resources/library --no-vignettes --timings fmcsR_1.51.0.tar.gz StartedAt: 2025-05-06 19:37:54 -0400 (Tue, 06 May 2025) EndedAt: 2025-05-06 19:38:24 -0400 (Tue, 06 May 2025) EllapsedTime: 30.4 seconds RetCode: 0 Status: OK CheckDir: fmcsR.Rcheck Warnings: 0