Package: fmcsR Version: 1.51.0 Command: /Library/Frameworks/R.framework/Resources/bin/R CMD build --keep-empty-dirs --no-resave-data fmcsR StartedAt: 2025-05-06 16:23:01 -0400 (Tue, 06 May 2025) EndedAt: 2025-05-06 16:23:21 -0400 (Tue, 06 May 2025) EllapsedTime: 20.2 seconds RetCode: 0 Status: OK PackageFile: fmcsR_1.51.0.tar.gz PackageFileSize: 871.3 KiB