Package: flowcatchR Version: 1.43.0 Command: chmod a+r flowcatchR -R && F:\biocbuild\bbs-3.22-bioc\R\bin\R.exe CMD build --keep-empty-dirs --no-resave-data flowcatchR StartedAt: 2025-08-14 20:12:30 -0400 (Thu, 14 Aug 2025) EndedAt: 2025-08-14 20:14:01 -0400 (Thu, 14 Aug 2025) EllapsedTime: 90.9 seconds RetCode: 0 Status: OK PackageFile: flowcatchR_1.43.0.tar.gz PackageFileSize: 6.76 MiB