Package: flowcatchR Version: 1.43.0 Command: rm -rf flowcatchR.buildbin-libdir && mkdir flowcatchR.buildbin-libdir && F:\biocbuild\bbs-3.22-bioc\R\bin\R.exe CMD INSTALL --build --library=flowcatchR.buildbin-libdir flowcatchR_1.43.0.tar.gz StartedAt: 2025-08-15 10:16:48 -0400 (Fri, 15 Aug 2025) EndedAt: 2025-08-15 10:17:59 -0400 (Fri, 15 Aug 2025) EllapsedTime: 70.9 seconds RetCode: 0 Status: OK PackageFile: flowcatchR_1.43.0.zip PackageFileSize: 7.645 MiB