Package: flowcatchR Version: 1.43.0 Maintainer: Federico Marini MaintainerEmail: marinif at uni-mainz.de git_url: https://git.bioconductor.org/packages/flowcatchR git_branch: devel git_last_commit: 68743ab git_last_commit_date: 2025-04-15 10:35:15 -0400 (Tue, 15 Apr 2025)