Back to Build/check report for BioC 3.23:   simplified   long
ABCDE[F]GHIJKLMNOPQRSTUVWXYZ

This page was generated on 2025-11-05 11:32 -0500 (Wed, 05 Nov 2025).

HostnameOSArch (*)R versionInstalled pkgs
nebbiolo1Linux (Ubuntu 24.04.3 LTS)x86_64R Under development (unstable) (2025-10-20 r88955) -- "Unsuffered Consequences" 4818
Click on any hostname to see more info about the system (e.g. compilers)      (*) as reported by 'uname -p', except on Windows and Mac OS X

All results for package flowViz


To the developers/maintainers of the flowViz package:
- Allow up to 24 hours (and sometimes 48 hours) for your latest push to git@git.bioconductor.org:packages/flowViz.git to reflect on this report. See Troubleshooting Build Report for more information.
- Use the following Renviron settings to reproduce errors and warnings.
- If 'R CMD check' started to fail recently on the Linux builder(s) over a missing dependency, add the missing dependency to 'Suggests:' in your DESCRIPTION file. See Renviron.bioc for more information.

raw results

Package 760/2323HostnameOS / ArchINSTALLBUILDCHECKBUILD BIN
flowViz 1.75.0  (landing page)
Mike Jiang
Snapshot Date: 2025-11-04 13:40 -0500 (Tue, 04 Nov 2025)
git_url: https://git.bioconductor.org/packages/flowViz
git_branch: devel
git_last_commit: 0ebf1eb
git_last_commit_date: 2025-10-29 09:58:41 -0500 (Wed, 29 Oct 2025)
nebbiolo1Linux (Ubuntu 24.04.3 LTS) / x86_64  OK    OK    OK  UNNEEDED, same version is already published



Results for Bioconductor software packages that depend directly on package flowViz

QUICK STATSOS / ArchINSTALLBUILDCHECKBUILD BIN
nebbiolo1Linux (Ubuntu 24.04.3 LTS) / x86_64
006
006
0033
Package 1/6HostnameOS / ArchINSTALLBUILDCHECKBUILD BIN
flowDensity 1.45.0  (landing page)
Mehrnoush Malek
git_last_commit: a180b49
git_last_commit_date: 2025-10-29 10:20:08 -0500
nebbiolo1Linux (Ubuntu 24.04.3 LTS) / x86_64  OK    OK    WARNINGS  UNNEEDED, same version is already published
Package 2/6HostnameOS / ArchINSTALLBUILDCHECKBUILD BIN
flowFP 1.69.0  (landing page)
Herb Holyst , Wade Rogers
git_last_commit: ff6ba06
git_last_commit_date: 2025-10-29 10:03:05 -0500
nebbiolo1Linux (Ubuntu 24.04.3 LTS) / x86_64  OK    OK    OK  UNNEEDED, same version is already published
Package 3/6HostnameOS / ArchINSTALLBUILDCHECKBUILD BIN
flowStats 4.23.0  (landing page)
Greg Finak , Mike Jiang
git_last_commit: cc57dce
git_last_commit_date: 2025-10-29 10:02:44 -0500
nebbiolo1Linux (Ubuntu 24.04.3 LTS) / x86_64  OK    OK    WARNINGS  UNNEEDED, same version is already published
Package 4/6HostnameOS / ArchINSTALLBUILDCHECKBUILD BIN
flowTrans 1.63.0  (landing page)
Greg Finak
git_last_commit: 6e8f2c2
git_last_commit_date: 2025-10-29 10:05:05 -0500
nebbiolo1Linux (Ubuntu 24.04.3 LTS) / x86_64  OK    OK    OK  UNNEEDED, same version is already published
Package 5/6HostnameOS / ArchINSTALLBUILDCHECKBUILD BIN
flowVS 1.43.0  (landing page)
Ariful Azad
git_last_commit: ed38ef9
git_last_commit_date: 2025-10-29 11:08:30 -0500
nebbiolo1Linux (Ubuntu 24.04.3 LTS) / x86_64  OK    OK    OK  UNNEEDED, same version is already published
Package 6/6HostnameOS / ArchINSTALLBUILDCHECKBUILD BIN
openCyto 2.23.0  (landing page)
Mike Jiang
git_last_commit: 11bf474
git_last_commit_date: 2025-10-29 10:16:53 -0500
nebbiolo1Linux (Ubuntu 24.04.3 LTS) / x86_64  OK    OK    WARNINGS  UNNEEDED, same version is already published