Package: flowVS Version: 1.41.0 Command: /home/biocbuild/bbs-3.22-bioc/R/bin/R CMD INSTALL flowVS StartedAt: 2025-10-03 15:34:35 -0400 (Fri, 03 Oct 2025) EndedAt: 2025-10-03 15:34:50 -0400 (Fri, 03 Oct 2025) EllapsedTime: 15.6 seconds RetCode: 0 Status: OK