Package: flowVS Version: 1.41.0 Command: /home/biocbuild/bbs-3.22-bioc/R/bin/R CMD build --keep-empty-dirs --no-resave-data --md5 flowVS StartedAt: 2025-10-03 17:39:29 -0400 (Fri, 03 Oct 2025) EndedAt: 2025-10-03 17:41:35 -0400 (Fri, 03 Oct 2025) EllapsedTime: 126.1 seconds RetCode: 0 Status: OK PackageFile: flowVS_1.41.0.tar.gz PackageFileSize: 3.7 MiB