Package: flowVS Version: 1.39.0 Command: /Library/Frameworks/R.framework/Resources/bin/R CMD INSTALL flowVS StartedAt: 2025-02-03 15:50:20 -0500 (Mon, 03 Feb 2025) EndedAt: 2025-02-03 15:50:35 -0500 (Mon, 03 Feb 2025) EllapsedTime: 15.4 seconds RetCode: 0 Status: OK