Package: flowVS Version: 1.39.0 Command: rm -rf flowVS.buildbin-libdir && mkdir flowVS.buildbin-libdir && /Users/biocbuild/BBS/utils/build-universal.sh flowVS_1.39.0.tar.gz /Library/Frameworks/R.framework/Resources/bin/R flowVS.buildbin-libdir StartedAt: 2025-02-04 00:34:43 -0500 (Tue, 04 Feb 2025) EndedAt: 2025-02-04 00:35:08 -0500 (Tue, 04 Feb 2025) EllapsedTime: 24.6 seconds RetCode: 0 Status: OK PackageFile: flowVS_1.39.0.tgz PackageFileSize: 3.586 MiB