Package: flowTrans Version: 1.59.0 Command: E:\biocbuild\bbs-3.21-bioc\R\bin\R.exe CMD INSTALL flowTrans StartedAt: 2025-02-03 15:59:52 -0500 (Mon, 03 Feb 2025) EndedAt: 2025-02-03 16:00:07 -0500 (Mon, 03 Feb 2025) EllapsedTime: 14.3 seconds RetCode: 0 Status: OK