Package: flowTrans Version: 1.59.0 Command: chmod a+r flowTrans -R && E:\biocbuild\bbs-3.21-bioc\R\bin\R.exe CMD build --keep-empty-dirs --no-resave-data flowTrans StartedAt: 2025-02-03 18:57:56 -0500 (Mon, 03 Feb 2025) EndedAt: 2025-02-03 18:58:28 -0500 (Mon, 03 Feb 2025) EllapsedTime: 32.2 seconds RetCode: 0 Status: OK PackageFile: flowTrans_1.59.0.tar.gz PackageFileSize: 373 KiB