Package: flowTrans Version: 1.59.0 Command: rm -rf flowTrans.buildbin-libdir && mkdir flowTrans.buildbin-libdir && E:\biocbuild\bbs-3.21-bioc\R\bin\R.exe CMD INSTALL --build --library=flowTrans.buildbin-libdir flowTrans_1.59.0.tar.gz StartedAt: 2025-02-06 08:03:43 -0500 (Thu, 06 Feb 2025) EndedAt: 2025-02-06 08:03:59 -0500 (Thu, 06 Feb 2025) EllapsedTime: 16.0 seconds RetCode: 0 Status: OK PackageFile: flowTrans_1.59.0.zip PackageFileSize: 418.3 KiB